BEGIN:VCALENDAR
VERSION:2.0
PRODID:-//holmgrensbil.se
CALSCALE:GREGORIAN
BEGIN:VTIMEZONE
TZID:Europe/Berlin
LAST-MODIFIED:20201011T015911Z
TZURL:http://tzurl.org/zoneinfo-outlook/Europe/Berlin
X-LIC-LOCATION:Europe/Berlin
X-WR-CALNAME:Spara vårt 2 års kalas i din kalender här!
BEGIN:DAYLIGHT
TZNAME:CEST
TZOFFSETFROM:+0100
TZOFFSETTO:+0200
DTSTART:19700329T020000
RRULE:FREQ=YEARLY;BYMONTH=3;BYDAY=-1SU
END:DAYLIGHT
BEGIN:STANDARD
TZNAME:CET
TZOFFSETFROM:+0200
TZOFFSETTO:+0100
DTSTART:19701025T030000
RRULE:FREQ=YEARLY;BYMONTH=10;BYDAY=-1SU
END:STANDARD
END:VTIMEZONE
BEGIN:VEVENT
DTSTAMP:20220818T06:11:22.000Z
UID:9a0db1a4-32f8-4e1b-9dd0-7806d5734845
DTSTART;VALUE=DATE:20220827T100000
DTEND;VALUE=DATE:20220827T140000
SUMMARY:Lördag 26 augusti
URL:
DESCRIPTION:Lördag 26 augusti kl. 10.00-14.00
LOCATION:
END:VEVENT
BEGIN:VEVENT
DTSTAMP:20220818T06:11:37.000Z
UID:4b49cf0d-57cb-48b5-bda3-fbc83f340691
DTSTART;VALUE=DATE:20220828T120000
DTEND;VALUE=DATE:20220828T160000
SUMMARY:Söndag 28 augusti
URL:
DESCRIPTION:Söndag 28 augusti kl. 12.00-16.00
LOCATION:
END:VEVENT
END:VCALENDAR
